BEGIN:VCALENDAR
VERSION:2.0
PRODID:-//Porta - ECPv6.15.13//NONSGML v1.0//EN
CALSCALE:GREGORIAN
METHOD:PUBLISH
X-WR-CALNAME:Porta
X-ORIGINAL-URL:https://www.porta.com.tr
X-WR-CALDESC:Porta için etkinlikler
REFRESH-INTERVAL;VALUE=DURATION:PT1H
X-Robots-Tag:noindex
X-PUBLISHED-TTL:PT1H
BEGIN:VTIMEZONE
TZID:UTC
BEGIN:STANDARD
TZOFFSETFROM:+0000
TZOFFSETTO:+0000
TZNAME:UTC
DTSTART:20210101T000000
END:STANDARD
END:VTIMEZONE
BEGIN:VEVENT
DTSTART;TZID=UTC:20221214T090000
DTEND;TZID=UTC:20221216T173000
DTSTAMP:20260426T042506
CREATED:20221113T191053Z
LAST-MODIFIED:20230716T155517Z
UID:7718-1671008400-1671211800@www.porta.com.tr
SUMMARY:Toplumsal Cinsiyete Duyarlı Ebeveyn Eğitimcileri Kapasite Geliştirme Eğitimi/ UNICEF Türkiye
DESCRIPTION:Ebeveyn eğitimleri yapan eğitimcilerin katılımıyla UNICEF Türkiye için ebeveyn eğitimleri uygulayan uzmanların kapasite gelişimi eğitimi gerçekleştirilir. \nEğitimde\, eğitimcilerin ebeveynlik eğitimcilikleri\, gelişim\, toplumsal cinsiyet\, program uyarlama\, sahadaki eğitimcilerin geliştirilen eğitim programından yararlanma becerileri kapsanmaktadır.
URL:https://www.porta.com.tr/etkinlik/toplumsal-cinsiyete-duyarli-ebeveyn-egitimcileri-kapasite-gelistirme-egitimi-unicef-turkiye/
CATEGORIES:Eğitimcinin Eğitimi,Ezberlenen Cinsiyet,Kurum Eğitimleri,Kurum Kültürü
END:VEVENT
END:VCALENDAR