BEGIN:VCALENDAR
VERSION:2.0
PRODID:-//Porta - ECPv6.15.13//NONSGML v1.0//EN
CALSCALE:GREGORIAN
METHOD:PUBLISH
X-WR-CALNAME:Porta
X-ORIGINAL-URL:https://www.porta.com.tr
X-WR-CALDESC:Porta için etkinlikler
REFRESH-INTERVAL;VALUE=DURATION:PT1H
X-Robots-Tag:noindex
X-PUBLISHED-TTL:PT1H
BEGIN:VTIMEZONE
TZID:Europe/Istanbul
BEGIN:STANDARD
TZOFFSETFROM:+0300
TZOFFSETTO:+0300
TZNAME:+03
DTSTART:20250101T000000
END:STANDARD
END:VTIMEZONE
BEGIN:VEVENT
DTSTART;TZID=Europe/Istanbul:20260402T200000
DTEND;TZID=Europe/Istanbul:20260402T213000
DTSTAMP:20260419T160926
CREATED:20260413T111725Z
LAST-MODIFIED:20260413T111725Z
UID:168637-1775160000-1775165400@www.porta.com.tr
SUMMARY:PORTA / ÇOCUK OYUNU BİZE NE ANLATIR
DESCRIPTION:Oyunun anlamı\, teoriler tarihi\, yetişkin ve çocuk oyun farkı\, çocuğun oyun oynama nedenleri\, şekilleri ve oyun dostu yetişkin olma konuları ele alınır.
URL:https://www.porta.com.tr/etkinlik/porta-cocuk-oyunu-bize-ne-anlatir/
CATEGORIES:Transaksiyonel Analiz
END:VEVENT
END:VCALENDAR