BEGIN:VCALENDAR
VERSION:2.0
PRODID:-//Porta - ECPv6.15.13//NONSGML v1.0//EN
CALSCALE:GREGORIAN
METHOD:PUBLISH
X-WR-CALNAME:Porta
X-ORIGINAL-URL:https://www.porta.com.tr
X-WR-CALDESC:Porta için etkinlikler
REFRESH-INTERVAL;VALUE=DURATION:PT1H
X-Robots-Tag:noindex
X-PUBLISHED-TTL:PT1H
BEGIN:VTIMEZONE
TZID:Europe/Istanbul
BEGIN:STANDARD
TZOFFSETFROM:+0300
TZOFFSETTO:+0300
TZNAME:+03
DTSTART:20250101T000000
END:STANDARD
END:VTIMEZONE
BEGIN:VEVENT
DTSTART;TZID=Europe/Istanbul:20260331T200000
DTEND;TZID=Europe/Istanbul:20260331T211500
DTSTAMP:20260420T162841
CREATED:20260305T090324Z
LAST-MODIFIED:20260305T090324Z
UID:168589-1774987200-1774991700@www.porta.com.tr
SUMMARY:SEZİN OKULLARI / EBEVEYN SEMİNERİ
DESCRIPTION:Sezin Okulları Lise velilerine; okul ve ebeveyn sorumluluk dengesi\, gençlerin yaşamındaki değişimler\, kimlik oluşturma\, iç ve dış motivasyon ile mahremiyet konuları ele alınır.
URL:https://www.porta.com.tr/etkinlik/sezin-okullari-ebeveyn-semineri-3/
CATEGORIES:Ergenin Dünyası,İletişim Becerileri
END:VEVENT
END:VCALENDAR