BEGIN:VCALENDAR
VERSION:2.0
PRODID:-//Porta - ECPv6.15.13//NONSGML v1.0//EN
CALSCALE:GREGORIAN
METHOD:PUBLISH
X-WR-CALNAME:Porta
X-ORIGINAL-URL:https://www.porta.com.tr
X-WR-CALDESC:Porta için etkinlikler
REFRESH-INTERVAL;VALUE=DURATION:PT1H
X-Robots-Tag:noindex
X-PUBLISHED-TTL:PT1H
BEGIN:VTIMEZONE
TZID:Europe/Istanbul
BEGIN:STANDARD
TZOFFSETFROM:+0300
TZOFFSETTO:+0300
TZNAME:+03
DTSTART:20250101T000000
END:STANDARD
END:VTIMEZONE
BEGIN:VEVENT
DTSTART;TZID=Europe/Istanbul:20260324T200000
DTEND;TZID=Europe/Istanbul:20260324T211500
DTSTAMP:20260420T054144
CREATED:20260305T085807Z
LAST-MODIFIED:20260305T085807Z
UID:168585-1774382400-1774386900@www.porta.com.tr
SUMMARY:SEZİN OKULLARI / EBEVEYN SEMİNERİ
DESCRIPTION:Sezin Okulları Ortaokul velilerine; ergenlik dönemini anlama\, sınır ve kurallar çerçevesinde uygun ebeveyn tutumları ele alınır.
URL:https://www.porta.com.tr/etkinlik/sezin-okullari-ebeveyn-semineri/
CATEGORIES:Ergenin Dünyası,Yaşam Boyu Gelişim
END:VEVENT
END:VCALENDAR